BEGIN:VCALENDAR
VERSION:2.0
PRODID:icalendar-ruby
CALSCALE:GREGORIAN
METHOD:PUBLISH
BEGIN:VEVENT
DTSTAMP:20260421T101400Z
UID:13-581097@smokymountainchurch.com
DTSTART:20261014T223000Z
DTEND:20261014T233000Z
CLASS:PUBLIC
CREATED:20260420T202214
DESCRIPTION:
LAST-MODIFIED:20260420T202214
LOCATION:SMCC Worship Center
SUMMARY:Wednesday Evening Bible Study
URL;VALUE=URI:https://www.smokymountainchurch.com/events/wednesday-evening-
 bible-study/2026-10-14
ATTACH;FILENAME=Y98I.jpg;FMTTYPE=image/jpeg:https://dq5pwpg1q8ru0.cloudfron
 t.net/2025/03/17/23/40/22/ac234c40-9d90-4812-8612-8cc08408bf02/Y98I.jpg
END:VEVENT
END:VCALENDAR
