BEGIN:VCALENDAR
VERSION:2.0
PRODID:icalendar-ruby
CALSCALE:GREGORIAN
METHOD:PUBLISH
BEGIN:VEVENT
DTSTAMP:20260421T173041Z
UID:7-582276@smokymountainchurch.com
DTSTART:20261101T153000Z
DTEND:20261101T170000Z
CLASS:PUBLIC
CREATED:20260421T124240
DESCRIPTION:
LAST-MODIFIED:20260421T124240
LOCATION:SMCC Worship Center
SUMMARY:Sunday Morning Worship
URL;VALUE=URI:https://www.smokymountainchurch.com/events/sunday-morning-wor
 ship/2026-11-01
ATTACH;FILENAME=Sunday-Morning-Worship.jpg;FMTTYPE=image/jpeg:https://dq5pw
 pg1q8ru0.cloudfront.net/2025/03/24/19/06/53/0aa8a514-091a-4098-b414-e9fd54
 9386e8/Sunday-Morning-Worship.jpg
END:VEVENT
END:VCALENDAR
