BEGIN:VCALENDAR
VERSION:2.0
PRODID:icalendar-ruby
CALSCALE:GREGORIAN
METHOD:PUBLISH
BEGIN:VEVENT
DTSTAMP:20260421T053049Z
UID:1-580890@smokymountainchurch.com
DTSTART:20260927T130000Z
DTEND:20260927T140000Z
CLASS:PUBLIC
CREATED:20260420T202214
DESCRIPTION:Come Join us for Sunday Morning Bible Study ! An hour diving in
 to lessons from the Word of God !\n 
LAST-MODIFIED:20260420T202214
LOCATION:SMCC Fellowship Hall
SUMMARY:Sunday Morning Bible Study
URL;VALUE=URI:https://www.smokymountainchurch.com/events/sunday-morning-bib
 le-study/2026-09-27
ATTACH;FILENAME=Y98I.jpg;FMTTYPE=image/jpeg:https://dq5pwpg1q8ru0.cloudfron
 t.net/2025/03/11/23/22/58/52228104-ce26-483b-b38b-8636dac18ac1/Y98I.jpg
END:VEVENT
END:VCALENDAR
